BEGIN:VCALENDAR
VERSION:2.0
PRODID:-//Transylvania Club - ECPv6.15.20//NONSGML v1.0//EN
CALSCALE:GREGORIAN
METHOD:PUBLISH
X-ORIGINAL-URL:https://transylvaniaclub.com
X-WR-CALDESC:Events for Transylvania Club
REFRESH-INTERVAL;VALUE=DURATION:PT1H
X-Robots-Tag:noindex
X-PUBLISHED-TTL:PT1H
BEGIN:VTIMEZONE
TZID:America/Toronto
BEGIN:DAYLIGHT
TZOFFSETFROM:-0500
TZOFFSETTO:-0400
TZNAME:EDT
DTSTART:20230312T070000
END:DAYLIGHT
BEGIN:STANDARD
TZOFFSETFROM:-0400
TZOFFSETTO:-0500
TZNAME:EST
DTSTART:20231105T060000
END:STANDARD
BEGIN:DAYLIGHT
TZOFFSETFROM:-0500
TZOFFSETTO:-0400
TZNAME:EDT
DTSTART:20240310T070000
END:DAYLIGHT
BEGIN:STANDARD
TZOFFSETFROM:-0400
TZOFFSETTO:-0500
TZNAME:EST
DTSTART:20241103T060000
END:STANDARD
BEGIN:DAYLIGHT
TZOFFSETFROM:-0500
TZOFFSETTO:-0400
TZNAME:EDT
DTSTART:20250309T070000
END:DAYLIGHT
BEGIN:STANDARD
TZOFFSETFROM:-0400
TZOFFSETTO:-0500
TZNAME:EST
DTSTART:20251102T060000
END:STANDARD
END:VTIMEZONE
BEGIN:VEVENT
DTSTART;TZID=America/Toronto:20240608T170000
DTEND;TZID=America/Toronto:20240608T220000
DTSTAMP:20260423T085824
CREATED:20240519T163622Z
LAST-MODIFIED:20240519T163622Z
UID:6890-1717866000-1717884000@transylvaniaclub.com
SUMMARY:TCK Dance Group Fundraiser - Disco Night
DESCRIPTION:Get ready to boogie the night away at the Transylvania Dance Group’s disco-themed fundraiser on June 8\, 2024!\nThe night will include lots of fun games and activities you don’t want to miss. Come dressed in your most fabulous disco attire! The best-dressed guest will strut away with a surprise gift!\n\nEvent Details:Doors Open: 5:00 PMDinner Starts: 6:30 PM\n\nTicket Details:Adult: $30Child (12 & under): $10\n\nSpecial Offer: Get $5 off your ticket when you bring a donation of a non-perishable food item! All food items will be donated to the Waterloo Region Food Bank.\n\nMessage the Transylvania Club Dance group or email Amanda at transylvaniadancers@gmail.com to reserve your tickets.
URL:https://transylvaniaclub.com/event/tck-dance-group-fundraiser-disco-night/
LOCATION:Alpine Club\, 464 Maple Ave\, Kitchener\, Ontario\, N2H 4X5\, Canada
CATEGORIES:Untergruppen Events
ATTACH;FMTTYPE=image/jpeg:https://s3.wasabisys.com/transylvanian-club/2024/05/disco-night.jpeg
END:VEVENT
BEGIN:VEVENT
DTSTART;TZID=America/Toronto:20240615T120000
DTEND;TZID=America/Toronto:20240615T170000
DTSTAMP:20260423T085824
CREATED:20240306T014529Z
LAST-MODIFIED:20240522T011237Z
UID:6420-1718452800-1718470800@transylvaniaclub.com
SUMMARY:Waldfest - Picnic at Hubertushaus
DESCRIPTION:We will be joining Hubertushaus for another wonderful picnic on June 15th. Starting at 12pm\, you can enjoy a nicely cooked fish fry meal\, dessert by the TCK youth group\, music played by the Hofbrau band\, and lawn games and camaraderie! Tickets: \n\n\n\n$20 Adult Members $25 Adult Non-members $10 Child \n\n\n\nPlease RSVP by JUNE 9th by emailing gchfc.entertainment@gmail.com or call/text Lexa at 519-749-5392 to purchase your food plates \nLINK FOR TICKETS
URL:https://transylvaniaclub.com/event/waldfest-picnic-at-hubertushaus/
LOCATION:Hubertushaus\, 1605 Bleams Road \, Mannheim\, \, Ontario\, N0B 2H0\, Canada
ATTACH;FMTTYPE=image/jpeg:https://s3.wasabisys.com/transylvanian-club/2024/05/picnic.jpeg
END:VEVENT
END:VCALENDAR