BEGIN:VCALENDAR
VERSION:2.0
PRODID:-//Transylvania Club - ECPv6.15.20//NONSGML v1.0//EN
CALSCALE:GREGORIAN
METHOD:PUBLISH
X-ORIGINAL-URL:https://transylvaniaclub.com
X-WR-CALDESC:Events for Transylvania Club
REFRESH-INTERVAL;VALUE=DURATION:PT1H
X-Robots-Tag:noindex
X-PUBLISHED-TTL:PT1H
BEGIN:VTIMEZONE
TZID:America/Toronto
BEGIN:DAYLIGHT
TZOFFSETFROM:-0500
TZOFFSETTO:-0400
TZNAME:EDT
DTSTART:20230312T070000
END:DAYLIGHT
BEGIN:STANDARD
TZOFFSETFROM:-0400
TZOFFSETTO:-0500
TZNAME:EST
DTSTART:20231105T060000
END:STANDARD
BEGIN:DAYLIGHT
TZOFFSETFROM:-0500
TZOFFSETTO:-0400
TZNAME:EDT
DTSTART:20240310T070000
END:DAYLIGHT
BEGIN:STANDARD
TZOFFSETFROM:-0400
TZOFFSETTO:-0500
TZNAME:EST
DTSTART:20241103T060000
END:STANDARD
BEGIN:DAYLIGHT
TZOFFSETFROM:-0500
TZOFFSETTO:-0400
TZNAME:EDT
DTSTART:20250309T070000
END:DAYLIGHT
BEGIN:STANDARD
TZOFFSETFROM:-0400
TZOFFSETTO:-0500
TZNAME:EST
DTSTART:20251102T060000
END:STANDARD
END:VTIMEZONE
BEGIN:VEVENT
DTSTART;TZID=America/Toronto:20240427T163000
DTEND;TZID=America/Toronto:20240427T230000
DTSTAMP:20260423T121503
CREATED:20231128T010944Z
LAST-MODIFIED:20240306T013957Z
UID:6368-1714235400-1714258800@transylvaniaclub.com
SUMMARY:Mitgliederabend and Ballroom Graduation
DESCRIPTION:Come celebrate being a member at our annual Mitgliederabend! Many of our groups will be performing for the program\, including the Ballroom Graduation class! \nDoors open at 4:30\nProgram starts at 5:30\nDinner served buffet style at 6:30 \nAttire is semi-formal. \nTickets for members at $35\nTickets for non-members are $50 \n  \nCall the office for tickets and to reserve a table at  519-744-1191 and pay with your credit card\, or send an email and pay by E-Transfer to transylvaniaclub@outlook.com. Please write your name and the amount of tickets you would like in the transfer message. Office is open Friday from 9 am-12 pm.
URL:https://transylvaniaclub.com/event/mitgliederabend-4/
LOCATION:Alpine Club\, 464 Maple Ave\, Kitchener\, Ontario\, N2H 4X5\, Canada
CATEGORIES:Club Events
ORGANIZER;CN="Transylvania Club":MAILTO:hallo@transylvaniaclub.com
END:VEVENT
END:VCALENDAR