BEGIN:VCALENDAR
VERSION:2.0
PRODID:-//Transylvania Club - ECPv6.15.20//NONSGML v1.0//EN
CALSCALE:GREGORIAN
METHOD:PUBLISH
X-ORIGINAL-URL:https://transylvaniaclub.com
X-WR-CALDESC:Events for Transylvania Club
REFRESH-INTERVAL;VALUE=DURATION:PT1H
X-Robots-Tag:noindex
X-PUBLISHED-TTL:PT1H
BEGIN:VTIMEZONE
TZID:America/Toronto
BEGIN:DAYLIGHT
TZOFFSETFROM:-0500
TZOFFSETTO:-0400
TZNAME:EDT
DTSTART:20230312T070000
END:DAYLIGHT
BEGIN:STANDARD
TZOFFSETFROM:-0400
TZOFFSETTO:-0500
TZNAME:EST
DTSTART:20231105T060000
END:STANDARD
BEGIN:DAYLIGHT
TZOFFSETFROM:-0500
TZOFFSETTO:-0400
TZNAME:EDT
DTSTART:20240310T070000
END:DAYLIGHT
BEGIN:STANDARD
TZOFFSETFROM:-0400
TZOFFSETTO:-0500
TZNAME:EST
DTSTART:20241103T060000
END:STANDARD
BEGIN:DAYLIGHT
TZOFFSETFROM:-0500
TZOFFSETTO:-0400
TZNAME:EDT
DTSTART:20250309T070000
END:DAYLIGHT
BEGIN:STANDARD
TZOFFSETFROM:-0400
TZOFFSETTO:-0500
TZNAME:EST
DTSTART:20251102T060000
END:STANDARD
END:VTIMEZONE
BEGIN:VEVENT
DTSTART;TZID=America/Toronto:20240210T173000
DTEND;TZID=America/Toronto:20240210T233000
DTSTAMP:20260423T145712
CREATED:20231128T005432Z
LAST-MODIFIED:20231128T012350Z
UID:6359-1707586200-1707607800@transylvaniaclub.com
SUMMARY:Frauenball Mardi Gras - Dress In Your Festive Glitz
DESCRIPTION:Join us as we dance and eat our way through Bourbon Street! \n 
URL:https://transylvaniaclub.com/event/frauenball-mardi-gras-dress-in-your-festive-glitz/
LOCATION:Alpine Club\, 464 Maple Ave\, Kitchener\, Ontario\, N2H 4X5\, Canada
END:VEVENT
END:VCALENDAR