BEGIN:VCALENDAR
VERSION:2.0
PRODID:-//Transylvania Club - ECPv6.15.20//NONSGML v1.0//EN
CALSCALE:GREGORIAN
METHOD:PUBLISH
X-ORIGINAL-URL:https://transylvaniaclub.com
X-WR-CALDESC:Events for Transylvania Club
REFRESH-INTERVAL;VALUE=DURATION:PT1H
X-Robots-Tag:noindex
X-PUBLISHED-TTL:PT1H
BEGIN:VTIMEZONE
TZID:America/Toronto
BEGIN:DAYLIGHT
TZOFFSETFROM:-0500
TZOFFSETTO:-0400
TZNAME:EDT
DTSTART:20220313T070000
END:DAYLIGHT
BEGIN:STANDARD
TZOFFSETFROM:-0400
TZOFFSETTO:-0500
TZNAME:EST
DTSTART:20221106T060000
END:STANDARD
BEGIN:DAYLIGHT
TZOFFSETFROM:-0500
TZOFFSETTO:-0400
TZNAME:EDT
DTSTART:20230312T070000
END:DAYLIGHT
BEGIN:STANDARD
TZOFFSETFROM:-0400
TZOFFSETTO:-0500
TZNAME:EST
DTSTART:20231105T060000
END:STANDARD
BEGIN:DAYLIGHT
TZOFFSETFROM:-0500
TZOFFSETTO:-0400
TZNAME:EDT
DTSTART:20240310T070000
END:DAYLIGHT
BEGIN:STANDARD
TZOFFSETFROM:-0400
TZOFFSETTO:-0500
TZNAME:EST
DTSTART:20241103T060000
END:STANDARD
END:VTIMEZONE
BEGIN:VEVENT
DTSTART;TZID=America/Toronto:20230423T163000
DTEND;TZID=America/Toronto:20230423T220000
DTSTAMP:20260424T065031
CREATED:20230117T004235Z
LAST-MODIFIED:20230422T141250Z
UID:5522-1682267400-1682287200@transylvaniaclub.com
SUMMARY:Youth Group Fundraiser - Country BBQ
DESCRIPTION:On April 23 the TCK Youth Group will be bringing back its Annual Fundraiser Night with a bit of a twist. This year’s theme is “Country BBQ”\, so we wanna see you in your best plaid! We will also be crowning the new MR TRANSYLVANIA\, something you don’t want to miss!\n\nThis year\, part of our fundraising will be to help support our members going to the US this Summer for Heimattag.\n\nDoors Open: 4:30pm\nDinner Starts: 5:30pm\n\nDancing\, Games\, Music\, Entertainment\, & Prizes!\nDon’t miss it!\n\nTickets:\n$18 + Non-perishable food item / Adult\nOR $20 / Adult\n$12 / Child (15 and under)\nMessage the Transylvania Club Dance group or email henrydhoffman@gmail.com to reserve your tickets.\nAll food items will be donated to the Waterloo Region Food Bank.\nSee you there!
URL:https://transylvaniaclub.com/event/youth-group-fundraiser/
CATEGORIES:Untergruppen Events
END:VEVENT
BEGIN:VEVENT
DTSTART;TZID=America/Toronto:20230429T160000
DTEND;TZID=America/Toronto:20230429T230000
DTSTAMP:20260424T065031
CREATED:20230117T003131Z
LAST-MODIFIED:20230326T203325Z
UID:5518-1682784000-1682809200@transylvaniaclub.com
SUMMARY:Mitgliederabend - Beach Party!
DESCRIPTION:Get your summer clothes out and come to the beach for our Beach Party! We are so excited to get together to celebrate our members for Mitgliederabend\, and what better way than with some sunshine in the sand! The beach (the Alpine Club) will have great food\, fun music\, and you will be witness to our MR. TRANSYLVANIA competition. \n  \nDoors open at 4\, party starts at 4:30. \nDinner will be served at 6:30\, buffet style \n  \n$20 for members\, $40 for non-members
URL:https://transylvaniaclub.com/event/mitgliederabend-3/
LOCATION:Alpine Club\, 464 Maple Ave\, Kitchener\, Ontario\, N2H 4X5\, Canada
CATEGORIES:Club Events
ORGANIZER;CN="Transylvania Club":MAILTO:hallo@transylvaniaclub.com
END:VEVENT
END:VCALENDAR