BEGIN:VCALENDAR
VERSION:2.0
PRODID:-//Transylvania Club - ECPv6.15.20//NONSGML v1.0//EN
CALSCALE:GREGORIAN
METHOD:PUBLISH
X-WR-CALNAME:Transylvania Club
X-ORIGINAL-URL:https://transylvaniaclub.com
X-WR-CALDESC:Events for Transylvania Club
REFRESH-INTERVAL;VALUE=DURATION:PT1H
X-Robots-Tag:noindex
X-PUBLISHED-TTL:PT1H
BEGIN:VTIMEZONE
TZID:America/Toronto
BEGIN:DAYLIGHT
TZOFFSETFROM:-0500
TZOFFSETTO:-0400
TZNAME:EDT
DTSTART:20240310T070000
END:DAYLIGHT
BEGIN:STANDARD
TZOFFSETFROM:-0400
TZOFFSETTO:-0500
TZNAME:EST
DTSTART:20241103T060000
END:STANDARD
BEGIN:DAYLIGHT
TZOFFSETFROM:-0500
TZOFFSETTO:-0400
TZNAME:EDT
DTSTART:20250309T070000
END:DAYLIGHT
BEGIN:STANDARD
TZOFFSETFROM:-0400
TZOFFSETTO:-0500
TZNAME:EST
DTSTART:20251102T060000
END:STANDARD
BEGIN:DAYLIGHT
TZOFFSETFROM:-0500
TZOFFSETTO:-0400
TZNAME:EDT
DTSTART:20260308T070000
END:DAYLIGHT
BEGIN:STANDARD
TZOFFSETFROM:-0400
TZOFFSETTO:-0500
TZNAME:EST
DTSTART:20261101T060000
END:STANDARD
END:VTIMEZONE
BEGIN:VEVENT
DTSTART;TZID=America/Toronto:20250614T120000
DTEND;TZID=America/Toronto:20250614T170000
DTSTAMP:20260420T100434
CREATED:20250503T010912Z
LAST-MODIFIED:20250503T010912Z
UID:8275-1749902400-1749920400@transylvaniaclub.com
SUMMARY:Waldfest - Picnic at Hubertushaus
DESCRIPTION:Summer Picnic & Fish Fry in conjunction with Hubertushaus.\n\nEnjoy a relaxing day of fun\, friends\, games and food!\n\nJune 14th – 12pm\n\n\n$20 for members of each club\n$25 non-members\n$10 children\n\n\nRSVP IN ADVANCE IS REQUIRED. Please RSVP to gchfc.entertainment@gmail.com by June 1st
URL:https://transylvaniaclub.com/event/waldfest-picnic-at-hubertushaus-2/
LOCATION:Hubertushaus\, 1605 Bleams Road \, Mannheim\, \, Ontario\, N0B 2H0\, Canada
ATTACH;FMTTYPE=image/jpeg:https://s3.wasabisys.com/transylvanian-club/2025/05/picnic.jpeg
ORGANIZER;CN="Transylvania Club":MAILTO:hallo@transylvaniaclub.com
END:VEVENT
END:VCALENDAR