BEGIN:VCALENDAR
VERSION:2.0
PRODID:-//Transylvania Club - ECPv6.15.20//NONSGML v1.0//EN
CALSCALE:GREGORIAN
METHOD:PUBLISH
X-ORIGINAL-URL:https://transylvaniaclub.com
X-WR-CALDESC:Events for Transylvania Club
REFRESH-INTERVAL;VALUE=DURATION:PT1H
X-Robots-Tag:noindex
X-PUBLISHED-TTL:PT1H
BEGIN:VTIMEZONE
TZID:America/Toronto
BEGIN:DAYLIGHT
TZOFFSETFROM:-0500
TZOFFSETTO:-0400
TZNAME:EDT
DTSTART:20230312T070000
END:DAYLIGHT
BEGIN:STANDARD
TZOFFSETFROM:-0400
TZOFFSETTO:-0500
TZNAME:EST
DTSTART:20231105T060000
END:STANDARD
BEGIN:DAYLIGHT
TZOFFSETFROM:-0500
TZOFFSETTO:-0400
TZNAME:EDT
DTSTART:20240310T070000
END:DAYLIGHT
BEGIN:STANDARD
TZOFFSETFROM:-0400
TZOFFSETTO:-0500
TZNAME:EST
DTSTART:20241103T060000
END:STANDARD
BEGIN:DAYLIGHT
TZOFFSETFROM:-0500
TZOFFSETTO:-0400
TZNAME:EDT
DTSTART:20250309T070000
END:DAYLIGHT
BEGIN:STANDARD
TZOFFSETFROM:-0400
TZOFFSETTO:-0500
TZNAME:EST
DTSTART:20251102T060000
END:STANDARD
END:VTIMEZONE
BEGIN:VEVENT
DTSTART;TZID=America/Toronto:20240712T190000
DTEND;TZID=America/Toronto:20240713T230000
DTSTAMP:20260423T124439
CREATED:20240306T014654Z
LAST-MODIFIED:20240606T010905Z
UID:6422-1720810800-1720911600@transylvaniaclub.com
SUMMARY:Heimattag in Kitchener
DESCRIPTION:Save the Date! Heimattag will be held in Kitchener this year. \nFriday – BBQ & Jugendlager Reunion: Celebrating 50+ Years \nAll Welcome! \n$20 per person \n7:00 PM \nAll Jugendlager past and present participants: Order your commemorative Jugendlager “FöJuLa” Swag by Sunday June 23\, 2024! \nT-shirts $25 and Canvas bags: $15 – follow the link below to place your order\, see sizing and to check out the design. \nhttps://saxons.ca/reunion  \n  \nSaturday: Official Opening Day & Cultural Program \n$55 per adult \n$30 children ages 6-12 \n12:00 PM – Doors Open (Lunch available for purchase) \n1:30 PM – Church Service & Official Opening \n6:00 PM – Dinner & Wildbahn to entertain after dinner \nReserve your tickets by June 10\, 2024! \ntransylvaniaclub@outlook.com \n 
URL:https://transylvaniaclub.com/event/heimattag-in-kitchener/
LOCATION:Alpine Club\, 464 Maple Ave\, Kitchener\, Ontario\, N2H 4X5\, Canada
CATEGORIES:Club Events
ATTACH;FMTTYPE=image/jpeg:https://s3.wasabisys.com/transylvanian-club/2024/06/Heimattag-Poster.jpeg
END:VEVENT
END:VCALENDAR