BEGIN:VCALENDAR
VERSION:2.0
PRODID:-//Transylvania Club - ECPv6.15.20//NONSGML v1.0//EN
CALSCALE:GREGORIAN
METHOD:PUBLISH
X-WR-CALNAME:Transylvania Club
X-ORIGINAL-URL:https://transylvaniaclub.com
X-WR-CALDESC:Events for Transylvania Club
REFRESH-INTERVAL;VALUE=DURATION:PT1H
X-Robots-Tag:noindex
X-PUBLISHED-TTL:PT1H
BEGIN:VTIMEZONE
TZID:America/Toronto
BEGIN:DAYLIGHT
TZOFFSETFROM:-0500
TZOFFSETTO:-0400
TZNAME:EDT
DTSTART:20210314T070000
END:DAYLIGHT
BEGIN:STANDARD
TZOFFSETFROM:-0400
TZOFFSETTO:-0500
TZNAME:EST
DTSTART:20211107T060000
END:STANDARD
BEGIN:DAYLIGHT
TZOFFSETFROM:-0500
TZOFFSETTO:-0400
TZNAME:EDT
DTSTART:20220313T070000
END:DAYLIGHT
BEGIN:STANDARD
TZOFFSETFROM:-0400
TZOFFSETTO:-0500
TZNAME:EST
DTSTART:20221106T060000
END:STANDARD
BEGIN:DAYLIGHT
TZOFFSETFROM:-0500
TZOFFSETTO:-0400
TZNAME:EDT
DTSTART:20230312T070000
END:DAYLIGHT
BEGIN:STANDARD
TZOFFSETFROM:-0400
TZOFFSETTO:-0500
TZNAME:EST
DTSTART:20231105T060000
END:STANDARD
END:VTIMEZONE
BEGIN:VEVENT
DTSTART;TZID=America/Toronto:20221119T160000
DTEND;TZID=America/Toronto:20221119T233000
DTSTAMP:20260424T165056
CREATED:20221018T142742Z
LAST-MODIFIED:20221018T142742Z
UID:5473-1668873600-1668900600@transylvaniaclub.com
SUMMARY:Transylvania Club's 70th Anniversary
DESCRIPTION:We are excited to finally celebrate the Transylvania Club’s 70th Anniversary together! Join us for a night of music\, dance\, friendship and milestones.\n\nDoors will open at 4:00pm and dinner will be served at 5:30pm.\n\nMembers are $50 and non-members are $65.\n\nEntertainment by Wildbahn will have your feet on the dance floor again!\n\n\nPlease RSVP by October 31st to the Office. 519-744-1191
URL:https://transylvaniaclub.com/event/transylvania-clubs-70th-anniversary/
LOCATION:Alpine Club\, 464 Maple Ave\, Kitchener\, Ontario\, N2H 4X5\, Canada
ORGANIZER;CN="Transylvania Club":MAILTO:hallo@transylvaniaclub.com
END:VEVENT
END:VCALENDAR